Workbook

Sheet Anexa 1D
A7: Oferta financiara servicii de mentenanta pentru instalatiile spatiilor de servicii si CIC-urile de pe A2 pe o perioada de 2 ani
O8: Anexa 1D
A9: Nr. crt. | B9: Denumire produs | C9: U.M. | D9: Cantitati servicii/an/spatiu | F9: Tarif lei/UM | G9: An 1 | J9: An 2 | M9: An 1 + An 2
D10: min. | E10: max. | G10: Valoare (lei fara TVA) | J10: Valoare (lei fara TVA) | M10: TOTAL
G11: nr. spatii | H11: min. | I11: max. | J11: nr. spatii | K11: min. | L11: max. | M11: nr. spatii | N11: min. | O11: max.
A12: 0 | B12: 1 | C12: 2 | D12: 3 | E12: 4 | F12: 5 | G12: 6 | H12: 7 = 3x5x6 | I12: 8 = 4x5x6 | J12: 9 | K12: 10 = 3x5x9 | L12: 11 = 4x5x9 | M12: 11 = 6+9 | N12: 12 = 7+10 | O12: 13 = 8+11
A13: 1 | B13: Demontare pompe submersibile, deznisipare, remontare pompe | C13: buc | D13: 0 | E13: 1 | G13: 4 | H13: =D13*F13*G13 -> 0 | I13: =E13*F13*G13 -> 0 | J13: 4 | K13: =D13*F13*J13 -> 0 | L13: =E13*F13*J13 -> 0 | M13: =G13+J13 -> 8 | N13: =H13+K13 -> 0 | O13: =I13+L13 -> 0
A14: 2 | B14: Demontare si inlocuire filtre apa | C14: buc | D14: 1 | E14: 2 | G14: 25 | H14: =D14*F14*G14 -> 0 | I14: =E14*F14*G14 -> 0 | J14: 25 | K14: =D14*F14*J14 -> 0 | L14: =E14*F14*J14 -> 0 | M14: =G14+J14 -> 50 | N14: =H14+K14 -> 0 | O14: =I14+L14 -> 0
A15: 3 | B15: Golire si spalare rezervoare de acumulare + verificare electropompe apa/hidrofor | C15: buc | D15: 0 | E15: 1 | G15: 25 | H15: =D15*F15*G15 -> 0 | I15: =E15*F15*G15 -> 0 | J15: 25 | K15: =D15*F15*J15 -> 0 | L15: =E15*F15*J15 -> 0 | M15: =G15+J15 -> 50 | N15: =H15+K15 -> 0 | O15: =I15+L15 -> 0
A16: 4 | B16: Vidanjare fosa septica in totalitate ( min 1 data pe luna, maxim 4 ori pe luna) | C16: buc | D16: 12 | E16: 27 | G16: 24 | H16: =D16*F16*G16 -> 0 | I16: =E16*F16*G16 -> 0 | J16: 24 | K16: =D16*F16*J16 -> 0 | L16: =E16*F16*J16 -> 0 | M16: =G16+J16 -> 48 | N16: =H16+K16 -> 0 | O16: =I16+L16 -> 0
A17: 5 | B17: Ridicarea si transportul gunoiului menajer din spatiile de servicii | C17: tone | D17: 8 | E17: 20 | G17: 25 | H17: =D17*F17*G17 -> 0 | I17: =E17*F17*G17 -> 0 | J17: 25 | K17: =D17*F17*J17 -> 0 | L17: =E17*F17*J17 -> 0 | M17: =G17+J17 -> 50 | N17: =H17+K17 -> 0 | O17: =I17+L17 -> 0
A18: 6 | B18: Ridicarea si transportul resturilor biodegradabile rezultate in urma activitatii de cosire din spatiile de servicii | C18: tone | D18: 7 | E18: 15 | G18: 22 | H18: =D18*F18*G18 -> 0 | I18: =E18*F18*G18 -> 0 | J18: 22 | K18: =D18*F18*J18 -> 0 | L18: =E18*F18*J18 -> 0 | M18: =G18+J18 -> 44 | N18: =H18+K18 -> 0 | O18: =I18+L18 -> 0
A19: 7 | B19: Deratizare cladire spatii de servicii (200 mp/spatiu) | C19: buc | D19: 1 | E19: 2 | G19: 25 | H19: =D19*F19*G19 -> 0 | I19: =E19*F19*G19 -> 0 | J19: 25 | K19: =D19*F19*J19 -> 0 | L19: =E19*F19*J19 -> 0 | M19: =G19+J19 -> 50 | N19: =H19+K19 -> 0 | O19: =I19+L19 -> 0
A20: TOTAL | H20: =SUM(H13:H19) -> 0 | I20: =SUM(I13:I19) -> 0 | K20: =SUM(K13:K19) -> 0 | L20: =SUM(L13:L19) -> 0 | N20: =H20+K20 -> 0 | O20: =I20+L20 -> 0
B23: Ofertant
B24: Semnatura
B25: Stampila

Sheet Anexa 1C
B1: Ofertant
A7: Oferta financiara pentru materialele consumabile necesare desfasurarii activitatii in spatiile de servicii si CIC-urile de pe A2 pe o perioada de 2 ani
Q8: Anexa 1C
A9: Nr. crt. | B9: Denumire produs | C9: U.M. | D9: Cantitati servicii/an/spatiu | F9: Tarif lei/UM | G9: An 1 | K9: An 2 | O9: 2 Ani
D10: min. | E10: max. | G10: Valoare (lei fara TVA) | K10: Valoare (lei fara TVA) | O10: TOTAL
G11: nr. spatii | H11: nr. luni | I11: min. | J11: max. | K11: nr. spatii | L11: nr. luni | M11: min. | N11: max. | O11: nr. spatii | P11: min. | Q11: max.
A12: 0 | B12: 1 | C12: 2 | D12: 3 | E12: 4 | F12: 5 | G12: 6 | H12: 7 | I12: 8 = 3x5x6x7 | J12: 9 = 4x5x6x7 | K12: 10 | L12: 11 | M12: 12 = 3x5x10x11 | N12: 13 = 4x5x10x11 | O12: 14 = 6+10 | P12: 15 = 8+12 | Q12: 16= 9+13
A13: 1 | B13: Sapun lichid (maxim 1 parcare x30 zile x 0.75 l/zi) | C13: litru | D13: =30*0.5 -> 15 | E13: =30*0.75 -> 22.5 | G13: 25 | H13: 12 | I13: =D13*F13*G13*H13 -> 0 | J13: =E13*F13*H13*G13 -> 0 | K13: 25 | L13: 12 | M13: =D13*F13*K13*L13 -> 0 | N13: =E13*F13*K13*L13 -> 0 | O13: =G13+K13 -> 50 | P13: =I13+M13 -> 0 | Q13: =J13+N13 -> 0
A14: 2 | B14: Prosop hartie pliate "Z" ambalate in pachete de 200 servetele/pachet (dimensiuni 21.5x25 cm/servetel) | C14: Pachet | D14: 5 | E14: 19 | G14: 25 | H14: 12 | I14: =D14*F14*G14*H14 -> 0 | J14: =E14*F14*H14*G14 -> 0 | K14: 25 | L14: 12 | M14: =D14*F14*K14*L14 -> 0 | N14: =E14*F14*K14*L14 -> 0 | O14: =G14+K14 -> 50 | P14: =I14+M14 -> 0 | Q14: =J14+N14 -> 0
A15: 3 | B15: Hartie igienica in 2 straturi min 110m/rola (diametrul rolei intre min 19 cm - max 23 cm) (1 parcare x 7 cabine x 1 rola/ 5 zile x 6 ori/luna) | C15: Buc. | D15: 21 | E15: =7*6 -> 42 | G15: 25 | H15: 12 | I15: =D15*F15*G15*H15 -> 0 | J15: =E15*F15*H15*G15 -> 0 | K15: 25 | L15: 12 | M15: =D15*F15*K15*L15 -> 0 | N15: =E15*F15*K15*L15 -> 0 | O15: =G15+K15 -> 50 | P15: =I15+M15 -> 0 | Q15: =J15+N15 -> 0
A16: 4 | B16: Odorizant WC pentru bazin WC (min 100 - 150 g) (maxim 1 parcare x 8 wc-uri x 4 buc/luna) | C16: Buc. | D16: 8 | E16: =8*4 -> 32 | G16: 25 | H16: 12 | I16: =D16*F16*G16*H16 -> 0 | J16: =E16*F16*H16*G16 -> 0 | K16: 25 | L16: 12 | M16: =D16*F16*K16*L16 -> 0 | N16: =E16*F16*K16*L16 -> 0 | O16: =G16+K16 -> 50 | P16: =I16+M16 -> 0 | Q16: =J16+N16 -> 0
A17: 5 | B17: Rezerve odorizant incaperi (1 parcare x 2 camere x 1 buc/luna) | C17: Buc. | D17: 1 | E17: 2 | G17: 25 | H17: 12 | I17: =D17*F17*G17*H17 -> 0 | J17: =E17*F17*H17*G17 -> 0 | K17: 25 | L17: 12 | M17: =D17*F17*K17*L17 -> 0 | N17: =E17*F17*K17*L17 -> 0 | O17: =G17+K17 -> 50 | P17: =I17+M17 -> 0 | Q17: =J17+N17 -> 0
A18: 6 | B18: Saci cos de gunoi 35 l (1 parcare x 30 zile x 7 buc/parcare x 2 ori/zi) | C18: Rola | D18: =30*7 -> 210 | E18: =30*7*2 -> 420 | G18: 25 | H18: 12 | I18: =D18*F18*G18*H18 -> 0 | J18: =E18*F18*H18*G18 -> 0 | K18: 25 | L18: 12 | M18: =D18*F18*K18*L18 -> 0 | N18: =E18*F18*K18*L18 -> 0 | O18: =G18+K18 -> 50 | P18: =I18+M18 -> 0 | Q18: =J18+N18 -> 0
A19: 7 | B19: Detartrant | C19: Litri | D19: 1 | E19: 2 | G19: 25 | H19: 12 | I19: =D19*F19*G19*H19 -> 0 | J19: =E19*F19*H19*G19 -> 0 | K19: 25 | L19: 12 | M19: =D19*F19*K19*L19 -> 0 | N19: =E19*F19*K19*L19 -> 0 | O19: =G19+K19 -> 50 | P19: =I19+M19 -> 0 | Q19: =J19+N19 -> 0
A20: 8 | B20: Solutie curatat ferestre si usi | C20: Litri | D20: 1 | E20: 2 | G20: 25 | H20: 12 | I20: =D20*F20*G20*H20 -> 0 | J20: =E20*F20*H20*G20 -> 0 | K20: 25 | L20: 12 | M20: =D20*F20*K20*L20 -> 0 | N20: =E20*F20*K20*L20 -> 0 | O20: =G20+K20 -> 50 | P20: =I20+M20 -> 0 | Q20: =J20+N20 -> 0
A21: 9 | B21: Praf de curatat 500 g | C21: Buc. | D21: 1 | E21: 2 | G21: 25 | H21: 12 | I21: =D21*F21*G21*H21 -> 0 | J21: =E21*F21*H21*G21 -> 0 | K21: 25 | L21: 12 | M21: =D21*F21*K21*L21 -> 0 | N21: =E21*F21*K21*L21 -> 0 | O21: =G21+K21 -> 50 | P21: =I21+M21 -> 0 | Q21: =J21+N21 -> 0
A22: 10 | B22: Solutie curatat gresie si faianta 1 l (se vor utiliza solutii ecologice, care nu ataca bacteriile din fose septice) | C22: Litri | D22: 1 | E22: 2 | G22: 25 | H22: 12 | I22: =D22*F22*G22*H22 -> 0 | J22: =E22*F22*H22*G22 -> 0 | K22: 25 | L22: 12 | M22: =D22*F22*K22*L22 -> 0 | N22: =E22*F22*K22*L22 -> 0 | O22: =G22+K22 -> 50 | P22: =I22+M22 -> 0 | Q22: =J22+N22 -> 0
A23: 11 | B23: Saci polietilena 240 l de 0.04 mm grosime (1 parcare x 30 zile x 1 buc/parcare x 2 ori /zi) | C23: Rola | D23: 30 | E23: 60 | G23: 25 | H23: 12 | I23: =D23*F23*G23*H23 -> 0 | J23: =E23*F23*H23*G23 -> 0 | K23: 25 | L23: 12 | M23: =D23*F23*K23*L23 -> 0 | N23: =E23*F23*K23*L23 -> 0 | O23: =G23+K23 -> 50 | P23: =I23+M23 -> 0 | Q23: =J23+N23 -> 0
A24: 12 | B24: Pastile dedurizare | C24: kg | D24: 1 | E24: 5 | G24: 25 | H24: 12 | I24: =D24*F24*G24*H24 -> 0 | J24: =E24*F24*H24*G24 -> 0 | K24: 25 | L24: 12 | M24: =D24*F24*K24*L24 -> 0 | N24: =E24*F24*K24*L24 -> 0 | O24: =G24+K24 -> 50 | P24: =I24+M24 -> 0 | Q24: =J24+N24 -> 0
B25: Tratament fose septice | C25: kg | D25: 0 | E25: 1 | G25: 25 | H25: 12 | I25: =D25*F25*G25*H25 -> 0 | J25: =E25*F25*H25*G25 -> 0 | K25: 25 | L25: 12 | M25: =D25*F25*K25*L25 -> 0 | N25: =E25*F25*K25*L25 -> 0 | O25: =G25+K25 -> 50 | P25: =I25+M25 -> 0 | Q25: =J25+N25 -> 0
A26: 13 | B26: Becuri cu led | C26: Buc. | D26: 1 | E26: 3 | G26: 25 | H26: 12 | I26: =D26*F26*G26*H26 -> 0 | J26: =E26*F26*H26*G26 -> 0 | K26: 25 | L26: 12 | M26: =D26*F26*K26*L26 -> 0 | N26: =E26*F26*K26*L26 -> 0 | O26: =G26+K26 -> 50 | P26: =I26+M26 -> 0 | Q26: =J26+N26 -> 0
A27: TOTAL | I27: =SUM(I13:I26) -> 0 | J27: =SUM(J13:J26) -> 0 | M27: =SUM(M13:M26) -> 0 | N27: =SUM(N13:N26) -> 0 | P27: =I27+M27 -> 0 | Q27: =J27+N27 -> 0
B32: Ofertant
B33: Semnatura
B34: Stampila

Sheet Anexa 1B
B1: Ofertant
A5: Oferta financiara echipamente, obiecte sanitare si electrice care trebuie inlocuite ca urmare a uzurii sau deteriorari in spatiile de servicii si CIC-urile de peA2 pe o perioada de 2 ani
O6: Anexa 1B
A7: Nr. crt. | B7: Denumire produs | C7: U.M. | D7: Cantitati servicii/an/spatiu | F7: Tarif lei/UM | G7: An 1 | J7: An 2 | M7: An 1+An 2
D8: min. | E8: max. | G8: Valoare (lei fara TVA) | J8: Valoare (lei fara TVA) | M8: TOTAL
G9: nr. spatii | H9: min. | I9: max. | J9: nr. spatii | K9: min. | L9: max. | M9: nr. spatii | N9: min. | O9: max.
A10: 0 | B10: 1 | C10: 2 | D10: 3 | E10: 4 | F10: 5 | G10: 6 | H10: 7 = 3x5x6 | I10: 8 = 4x5x6 | J10: 9 | K10: 10 = 3x5x9 | L10: 11 = 4x5x9 | M10: 11 = 6+9 | N10: 12 = 7+10 | O10: 13 = 8+11
A11: 1 | B11: Dozator sapun 1000 ml cu prindere antifurt antivandalism din inox (dimensiune 250 x 126 mm) | C11: Buc. | D11: 1 | E11: 2 | G11: 25 | H11: =D11*F11*G11 -> 0 | I11: =E11*F11*G11 -> 0 | J11: 25 | K11: =J11*D11*F11 -> 0 | L11: =J11*E11*F11 -> 0 | M11: =J11+G11 -> 50 | N11: =K11+H11 -> 0 | O11: =L11+I11 -> 0
A12: 2 | B12: Distribuitor hartie igienica antivandalism cu prindere antifurt din inox (cu diametrul rolei de 23 cm) | C12: Buc. | D12: 1 | E12: 2 | G12: 25 | H12: =D12*F12*G12 -> 0 | I12: =E12*F12*G12 -> 0 | J12: 25 | K12: =J12*D12*F12 -> 0 | L12: =J12*E12*F12 -> 0 | M12: =J12+G12 -> 50 | N12: =K12+H12 -> 0 | O12: =L12+I12 -> 0
A13: 3 | B13: Distribuitor prosop hartie pliata antivandalism din inox cu prindere antifurt (dimensiuni 342 x 261 x 133 mm) | C13: Buc. | D13: 1 | E13: 1 | G13: 25 | H13: =D13*F13*G13 -> 0 | I13: =E13*F13*G13 -> 0 | J13: 25 | K13: =J13*D13*F13 -> 0 | L13: =J13*E13*F13 -> 0 | M13: =J13+G13 -> 50 | N13: =K13+H13 -> 0 | O13: =L13+I13 -> 0
A14: 4 | B14: Cos de gunoi plastic cu capac batant de cap 7 - 12 l | C14: Buc. | D14: 1 | E14: 6 | G14: 25 | H14: =D14*F14*G14 -> 0 | I14: =E14*F14*G14 -> 0 | J14: 25 | K14: =J14*D14*F14 -> 0 | L14: =J14*E14*F14 -> 0 | M14: =J14+G14 -> 50 | N14: =K14+H14 -> 0 | O14: =L14+I14 -> 0
A15: 5 | B15: Perie din plastic cu suport pentru vas WC | C15: Buc. | D15: 1 | E15: 8 | G15: 25 | H15: =D15*F15*G15 -> 0 | I15: =E15*F15*G15 -> 0 | J15: 25 | K15: =J15*D15*F15 -> 0 | L15: =J15*E15*F15 -> 0 | M15: =J15+G15 -> 50 | N15: =K15+H15 -> 0 | O15: =L15+I15 -> 0
A16: 6 | B16: Agatatoare | C16: Buc. | D16: 1 | E16: 8 | G16: 25 | H16: =D16*F16*G16 -> 0 | I16: =E16*F16*G16 -> 0 | J16: 25 | K16: =J16*D16*F16 -> 0 | L16: =J16*E16*F16 -> 0 | M16: =J16+G16 -> 50 | N16: =K16+H16 -> 0 | O16: =L16+I16 -> 0
A17: 7 | B17: Europubela 240 l, din polietilena si rotile din cauciuc dens | C17: Buc. | D17: 1 | E17: 2 | G17: 25 | H17: =D17*F17*G17 -> 0 | I17: =E17*F17*G17 -> 0 | J17: 25 | K17: =J17*D17*F17 -> 0 | L17: =J17*E17*F17 -> 0 | M17: =J17+G17 -> 50 | N17: =K17+H17 -> 0 | O17: =L17+I17 -> 0
A18: 8 | B18: Rezervoare WC | C18: Buc. | D18: 1 | E18: 8 | G18: 25 | H18: =D18*F18*G18 -> 0 | I18: =E18*F18*G18 -> 0 | J18: 25 | K18: =J18*D18*F18 -> 0 | L18: =J18*E18*F18 -> 0 | M18: =J18+G18 -> 50 | N18: =K18+H18 -> 0 | O18: =L18+I18 -> 0
A19: 9 | B19: Baterii chiuveta | C19: Buc. | D19: 1 | E19: 4 | G19: 25 | H19: =D19*F19*G19 -> 0 | I19: =E19*F19*G19 -> 0 | J19: 25 | K19: =J19*D19*F19 -> 0 | L19: =J19*E19*F19 -> 0 | M19: =J19+G19 -> 50 | N19: =K19+H19 -> 0 | O19: =L19+I19 -> 0
A20: 10 | B20: Capace WC | C20: Buc. | D20: 1 | E20: 8 | G20: 25 | H20: =D20*F20*G20 -> 0 | I20: =E20*F20*G20 -> 0 | J20: 25 | K20: =J20*D20*F20 -> 0 | L20: =J20*E20*F20 -> 0 | M20: =J20+G20 -> 50 | N20: =K20+H20 -> 0 | O20: =L20+I20 -> 0
A21: 11 | B21: Furtune flexibile | C21: Buc. | D21: 1 | E21: 8 | G21: 25 | H21: =D21*F21*G21 -> 0 | I21: =E21*F21*G21 -> 0 | J21: 25 | K21: =J21*D21*F21 -> 0 | L21: =J21*E21*F21 -> 0 | M21: =J21+G21 -> 50 | N21: =K21+H21 -> 0 | O21: =L21+I21 -> 0
A22: 12 | B22: Vas WC | C22: Buc. | D22: 1 | E22: 8 | G22: 25 | H22: =D22*F22*G22 -> 0 | I22: =E22*F22*G22 -> 0 | J22: 25 | K22: =J22*D22*F22 -> 0 | L22: =J22*E22*F22 -> 0 | M22: =J22+G22 -> 50 | N22: =K22+H22 -> 0 | O22: =L22+I22 -> 0
... A34: 24 | B34: Sifoane scurgere | C34: Buc. | D34: 1 | E34: 2 | G34: 25 | H34: =D34*F34*G34 -> 0 | I34: =E34*F34*G34 -> 0 | J34: 25 | K34: =J34*D34*F34 -> 0 | L34: =J34*E34*F34 -> 0 | M34: =J34+G34 -> 50 | N34: =K34+H34 -> 0 | O34: =L34+I34 -> 0
A35: TOTAL | H35: =SUM(H11:H34) -> 0 | I35: =SUM(I11:I34) -> 0 | K35: =SUM(K11:K34) -> 0 | L35: =SUM(L11:L34) -> 0 | N35: =K35+H35 -> 0 | O35: =L35+I35 -> 0
B39: Ofertant
B40: Semnatura
B41: Stampila

Sheet Anexa 1A
B1: Ofertant
B5: Oferta financiara cheltuieli personal muncitor pentru spatiile de servicii si CIC-urile de pe Autostrada A2 pe o perioada de 2 ani
P6: Anexa 1A
B7: Nr. crt. | C7: Localizare spatiu de servicii si CIC | D7: buc | E7: Ore/zi | G7: Tarif orar lei/ora | H7: An 1 | K7: An 2 | N7: Total (lei fara TVA)
H8: Valoare (lei fara TVA) | K8: Valoare (lei fara TVA)
E9: min | F9: max | H9: nr. zile | I9: min | J9: max | K9: nr. zile | L9: min | M9: max | N9: nr. zile | O9: min | P9: max
B10: 0 | C10: 1 | D10: 2 | E10: 3 | F10: 4 | G10: 5 | H10: 6 | I10: 7=3x5x6 | J10: 8=4x5x6 | K10: 9 | L10: 10=3x5x9 | M10: 11=4x5x9 | N10: 15 | O10: 16 | P10: 17
B11: 1 | C11: A2 km 66+800 C1 | D11: 1 | E11: 24 | F11: 24 | G11: ='Anexa 3'!D$25 -> 0 | H11: 365 | I11: =E11*G11*H11 -> 0 | J11: =F11*G11*H11 -> 0 | K11: 365 | L11: =E11*G11*K11 -> 0 | M11: =K11*G11*F11 -> 0 | N11: =K11+H11 -> 730 | O11: =I11+L11 -> 0 | P11: =J11+M11 -> 0
B12: 2 | C12: A2 km 66+800 C2 | D12: 1 | E12: 24 | F12: 24 | G12: ='Anexa 3'!D$25 -> 0 | H12: 365 | I12: =E12*G12*H12 -> 0 | J12: =F12*G12*H12 -> 0 | K12: 365 | L12: =E12*G12*K12 -> 0 | M12: =K12*G12*F12 -> 0 | N12: =K12+H12 -> 730 | O12: =I12+L12 -> 0 | P12: =J12+M12 -> 0
B13: 3 | C13: A2 km 73+950 C1 | D13: 1 | E13: 24 | F13: 24 | G13: ='Anexa 3'!D$25 -> 0 | H13: 365 | I13: =E13*G13*H13 -> 0 | J13: =F13*G13*H13 -> 0 | K13: 365 | L13: =E13*G13*K13 -> 0 | M13: =K13*G13*F13 -> 0 | N13: =K13+H13 -> 730 | O13: =I13+L13 -> 0 | P13: =J13+M13 -> 0
B14: 4 | C14: A2 km 73+950 C2 | D14: 1 | E14: 24 | F14: 24 | G14: ='Anexa 3'!D$25 -> 0 | H14: 365 | I14: =E14*G14*H14 -> 0 | J14: =F14*G14*H14 -> 0 | K14: 365 | L14: =E14*G14*K14 -> 0 | M14: =K14*G14*F14 -> 0 | N14: =K14+H14 -> 730 | O14: =I14+L14 -> 0 | P14: =J14+M14 -> 0
B15: 5 | C15: A2 km 88+300 C1 | D15: 1 | E15: 24 | F15: 24 | G15: ='Anexa 3'!D$25 -> 0 | H15: 365 | I15: =E15*G15*H15 -> 0 | J15: =F15*G15*H15 -> 0 | K15: 365 | L15: =E15*G15*K15 -> 0 | M15: =K15*G15*F15 -> 0 | N15: =K15+H15 -> 730 | O15: =I15+L15 -> 0 | P15: =J15+M15 -> 0
B16: 6 | C16: A2 km 88+300 C2 | D16: 1 | E16: 24 | F16: 24 | G16: ='Anexa 3'!D$25 -> 0 | H16: 365 | I16: =E16*G16*H16 -> 0 | J16: =F16*G16*H16 -> 0 | K16: 365 | L16: =E16*G16*K16 -> 0 | M16: =K16*G16*F16 -> 0 | N16: =K16+H16 -> 730 | O16: =I16+L16 -> 0 | P16: =J16+M16 -> 0
B17: 7 | C17: A2 km 98+900 C1 | D17: 1 | E17: 24 | F17: 24 | G17: ='Anexa 3'!D$25 -> 0 | H17: 365 | I17: =E17*G17*H17 -> 0 | J17: =F17*G17*H17 -> 0 | K17: 365 | L17: =E17*G17*K17 -> 0 | M17: =K17*G17*F17 -> 0 | N17: =K17+H17 -> 730 | O17: =I17+L17 -> 0 | P17: =J17+M17 -> 0
B18: 8 | C18: A2 km 98+900 C2 | D18: 1 | E18: 24 | F18: 24 | G18: ='Anexa 3'!D$25 -> 0 | H18: 365 | I18: =E18*G18*H18 -> 0 | J18: =F18*G18*H18 -> 0 | K18: 365 | L18: =E18*G18*K18 -> 0 | M18: =K18*G18*F18 -> 0 | N18: =K18+H18 -> 730 | O18: =I18+L18 -> 0 | P18: =J18+M18 -> 0
B19: 9 | C19: A2 km 105+500 C2-CIC | D19: 1 | E19: 24 | F19: 24 | G19: ='Anexa 3'!D$25 -> 0 | H19: 365 | I19: =E19*G19*H19 -> 0 | J19: =F19*G19*H19 -> 0 | K19: 365 | L19: =E19*G19*K19 -> 0 | M19: =K19*G19*F19 -> 0 | N19: =K19+H19 -> 730 | O19: =I19+L19 -> 0 | P19: =J19+M19 -> 0
B20: 10 | C20: A2 km 111+770 C1 | D20: 1 | E20: 24 | F20: 24 | G20: ='Anexa 3'!D$25 -> 0 | H20: 365 | I20: =E20*G20*H20 -> 0 | J20: =F20*G20*H20 -> 0 | K20: 365 | L20: =E20*G20*K20 -> 0 | M20: =K20*G20*F20 -> 0 | N20: =K20+H20 -> 730 | O20: =I20+L20 -> 0 | P20: =J20+M20 -> 0
B21: 11 | C21: A2 km 111+770 C2 | D21: 1 | E21: 24 | F21: 24 | G21: ='Anexa 3'!D$25 -> 0 | H21: 365 | I21: =E21*G21*H21 -> 0 | J21: =F21*G21*H21 -> 0 | K21: 365 | L21: =E21*G21*K21 -> 0 | M21: =K21*G21*F21 -> 0 | N21: =K21+H21 -> 730 | O21: =I21+L21 -> 0 | P21: =J21+M21 -> 0
B22: 12 | C22: A2 km 120+085 C1 | D22: 1 | E22: 24 | F22: 24 | G22: ='Anexa 3'!D$25 -> 0 | H22: 365 | I22: =E22*G22*H22 -> 0 | J22: =F22*G22*H22 -> 0 | K22: 365 | L22: =E22*G22*K22 -> 0 | M22: =K22*G22*F22 -> 0 | N22: =K22+H22 -> 730 | O22: =I22+L22 -> 0 | P22: =J22+M22 -> 0
... B35: 25 | C35: A2 km 193+000 C1-CIC | D35: 1 | E35: 24 | F35: 24 | G35: ='Anexa 3'!D$25 -> 0 | H35: 365 | I35: =E35*G35*H35 -> 0 | J35: =F35*G35*H35 -> 0 | K35: 365 | L35: =E35*G35*K35 -> 0 | M35: =K35*G35*F35 -> 0 | N35: =K35+H35 -> 730 | O35: =I35+L35 -> 0 | P35: =J35+M35 -> 0
B36: Total | D36: =SUM(D11:D35) -> 25 | I36: =SUM(I11:I35) -> 0 | J36: =SUM(J11:J35) -> 0 | L36: =SUM(L11:L35) -> 0 | M36: =SUM(M11:M35) -> 0 | O36: =SUM(O11:O35) -> 0 | P36: =SUM(P11:P35) -> 0
C39: Ofertant
C40: Semnatura
C41: Stampila

Sheet Anexa 2
A7: Oferta financiara servicii de ordine si curatenie in spatiile de servicii si CIC-urile de pe A2 , pe o perioada de 2 ani
H10: Anexa nr. 2
A11: Nr. crt. | B11: Anexa nr. | C11: An 1 | E11: AN 2 | G11: An 1 + An 2
C12: Valoare (lei fara TVA) | E12: Valoare (lei fara TVA) | G12: Valoare (lei fara TVA)
C13: min | D13: max | E13: min | F13: max | G13: min | H13: max
A14: 0 | B14: 1 | C14: 2 | D14: 3 | E14: 4 | F14: 5 | G14: 6=2+4 | H14: 7=3+5
A15: 1 | B15: Cheltuieli personal muncitor | C15: ='Anexa 1A'!I36 -> 0 | D15: ='Anexa 1A'!J36 -> 0 | E15: ='Anexa 1A'!L36 -> 0 | F15: ='Anexa 1A'!M36 -> 0 | G15: =C15+E15 -> 0 | H15: =D15+F15 -> 0
A16: 2 | B16: Inlocuire echipamente si ustensile deteriorate | C16: ='Anexa 1B'!H35 -> 0 | D16: ='Anexa 1B'!I35 -> 0 | E16: ='Anexa 1B'!K35 -> 0 | F16: ='Anexa 1B'!L35 -> 0 | G16: =C16+E16 -> 0 | H16: =D16+F16 -> 0
A17: 3 | B17: Aprovizionare cu materiale consumabile | C17: ='Anexa 1C'!I27 -> 0 | D17: ='Anexa 1C'!J27 -> 0 | E17: ='Anexa 1C'!M27 -> 0 | F17: ='Anexa 1C'!N27 -> 0 | G17: =C17+E17 -> 0 | H17: =D17+F17 -> 0
A18: 4 | B18: Servicii de mentenanta curenta la instalatiile spatiilor de servicii | C18: ='Anexa 1D'!H20 -> 0 | D18: ='Anexa 1D'!I20 -> 0 | E18: ='Anexa 1D'!K20 -> 0 | F18: ='Anexa 1D'!L20 -> 0 | G18: =C18+E18 -> 0 | H18: =D18+F18 -> 0
A19: Total | C19: =SUM(C15:C18) -> 0 | D19: =SUM(D15:D18) -> 0 | E19: =SUM(E15:E18) -> 0 | F19: =SUM(F15:F18) -> 0 | G19: =SUM(G15:G18) -> 0 | H19: =SUM(H15:H18) -> 0
A20: Total cu TVA | C20: =C19*1.19 -> 0 | D20: =D19*1.19 -> 0 | E20: =E19*1.19 -> 0 | F20: =F19*1.19 -> 0 | G20: =G19*1.19 -> 0 | H20: =H19*1.19 -> 0
B23: Ofertant
B24: Semnatura
B25: Stampila
A56: D.R.D.P. Constanta
A57: Serviciul Mentenanta Drumuri si Plan
A58: A2 km 64+000 - km 211+980

Sheet Anexa 3
A1: Ofertant
B7: Oferta tarif orar conform salariului minim pe economie
D8: Anexa 3
B9: Denumire | C9: Spor % | D9: Valoare (lei)
B10: Salariul minim pe economie ……..lei pe luna/ 166 ore pe luna = ………...lei/ora
B11: Spor ore de noapte (din 24 de ore, orele cuprinse in intervalul orar 22 -6, reprezinta 33%) …….lei*33%*….% | C11: %
B12: Spor ore de sambata si duminica (din 365 zile, zilele de sambata si duminica, reprezinta ~ 105 zile, adica 8.75 zile/luna) (….. lei*8.75 zile/luna*24 ore/730 ore/luna)*….% | C12: %
B13: Indemnizatie concediu de odihna (20 zile CO/an reprezinta 480 ore de CO/an, adica 5,48 % din nr total de ore /an si se aplica la tariful orar al salariului minim pe economie + sporurile fixe) | C13: 0.0548 | D13: =C13*SUM(D10:D12) -> 0
B14: Spor ore sarbatori legale si zile libere (14 zile/an) | C14: %
B15: Total salariu brut | D15: =SUM(D10:D14) -> 0
B16: CAS | C16: 0.158 | D16: =D15*C16 -> 0
B17: CASS | C17: 0.052 | D17: =C17*D15 -> 0
B18: Somaj | C18: 0.005 | D18: =D15*C18 -> 0
B19: Fond accidente, boli profesionale | C19: 0.00242 | D19: =C19*D15 -> 0
B20: Fond garantare | C20: 0.0025 | D20: =C20*D15 -> 0
B21: Contribuitie, indemnizatie, Concediu medical | C21: 0.0085 | D21: =C21*D15 -> 0
B22: Total cheltuieli directe | D22: =SUM(D15:D21) -> 0
B23: Cheltuieli indirecte | C23: %
B24: Profit | C24: %
B25: Total tarif orar personal muncitor | D25: =D24+D23+D22 -> 0
B28: Ofertant
B29: Semnatura
B30: Stampila

Sheet Anexa 3.1
B1: Ofertant
B7: Oferta tarif ridicare deseuri menajere
E8: Anexa 3.1
B9: Tarife componente | C9: Preturi unitare (lei/mc) | D9: Preturi unitare (lei/to) | E9: Echivalare volum - masa
B10: Tarif servicii colectare | E10: 1 mc = 0.5 tone
B11: Transport la 100 km
B12: Tarif depozitare
B13: Total
B18: Oferta tarif ridicare deseuri biodegradabile
B20: Tarife componente | C20: Preturi unitare (lei/mc) | D20: Preturi unitare (lei/to) | E20: Echivalare volum - masa
B21: Tarif servicii colectare | E21: 1 mc = 0.8 tone
B22: Transport la 100 km
B23: Tarif depozitare
B24: Total
B27: Ofertant
B28: Semnatura
B29: Stampila
